BEGIN:VCALENDAR
VERSION:2.0
PRODID:Events Booking
BEGIN:VEVENT
UID:69eaa593b63af
SUMMARY:Virtual Walk to d'Feet MND
DESCRIPTION:Join us for our first Virtual Walk to d’Feet MND to raise fun
 ds and awareness for motor neurone disease.&nbsp\;You may be feeling isola
 ted\, but by joining us in our Virtual “Walk to d’Feet MND” you won
 ’t be walking alone.
 &nbsp\;
DTSTART:20201017T130000Z
DTSTAMP:20260423T230451Z
ORGANIZER;CN=MNDNSW Website - Events:MAILTO:info@mndnsw.org.au
END:VEVENT
END:VCALENDAR