BEGIN:VCALENDAR
VERSION:2.0
PRODID:Events Booking
BEGIN:VEVENT
UID:69e6a706438ad
SUMMARY:Walk to Defeat MND Western Sydney
DESCRIPTION:Walk to Defeat MND Western Sydney is happening Sunday July 14 f
 rom 10am at Bungarribee Park\, Doonside.
 &nbsp\;
LOCATION:Doonside Road\, Bungarribee\, NSW
DTSTART:20240714T000000Z
DTEND:20240714T020000Z
DTSTAMP:20240403T161643Z
ORGANIZER;CN=MNDNSW Website - Events:MAILTO:info@mndnsw.org.au
GEO:-33.786758;150.867932
X-APPLE-STRUCTURED-LOCATION;VALUE=URI;X-ADDRESS=Doonside Road\, Bungarribee
 \, NSW;X-APPLE-RADIUS=72;X-TITLE=Bungarribbee Park:-33.786758;150.867932
END:VEVENT
END:VCALENDAR