BEGIN:VCALENDAR
VERSION:2.0
PRODID:Events Booking
BEGIN:VEVENT
UID:69eae4d9db3e7
SUMMARY:Information session for people recently diagnosed
DESCRIPTION:Have you\, or someone close to you\, been recently diagnosed wi
 th motor neurone disease (MND)?
 This online interactive information sess
 ion will provide the opportunity for you and your family to have some of y
 our questions answered.
DTSTART:20200701T003000Z
DTEND:20200701T013000Z
DTSTAMP:20260424T033449Z
ORGANIZER;CN=MNDNSW Website - Events:MAILTO:info@mndnsw.org.au
END:VEVENT
END:VCALENDAR