BEGIN:VCALENDAR
VERSION:2.0
PRODID:Events Booking
BEGIN:VEVENT
UID:69eae0d267a9a
SUMMARY:ACT Online Support Group
DESCRIPTION:The ACT Support Group is now online!&nbsp\;
 Grab a cuppa and 
 join MND Advisor Sue for an online Support Group.
DTSTART:20200702T003000Z
DTEND:20200702T013000Z
DTSTAMP:20260424T031738Z
ORGANIZER;CN=MNDNSW Website - Events:MAILTO:info@mndnsw.org.au
END:VEVENT
END:VCALENDAR