BEGIN:VCALENDAR
VERSION:2.0
PRODID:Events Booking
BEGIN:VEVENT
UID:69eaf64453e03
SUMMARY:Online Coffee with Kath
DESCRIPTION:Our coffee mornings are going online!&nbsp\;
 This is an onlin
 e group meeting for people who would usually attend support group events w
 ith our MND Advisor Kath.
 &nbsp\;
DTSTART:20200624T030000Z
DTEND:20200624T040000Z
DTSTAMP:20260424T044908Z
ORGANIZER;CN=MNDNSW Website - Events:MAILTO:info@mndnsw.org.au
END:VEVENT
END:VCALENDAR