BEGIN:VCALENDAR
VERSION:2.0
PRODID:Events Booking
BEGIN:VEVENT
UID:69eaf5e84f059
SUMMARY:North West Online Support Group 
DESCRIPTION:The Tamworth Support Group&nbsp\;is going online!
 This is an 
 online group meeting for people who would usually attend support group eve
 nts in Tamworth with our MND advisor Jess and Ruth from Northcott Disabili
 ty Services.
DTSTART:20200616T000000Z
DTEND:20200616T010000Z
DTSTAMP:20260424T044736Z
ORGANIZER;CN=MNDNSW Website - Events:MAILTO:info@mndnsw.org.au
END:VEVENT
END:VCALENDAR