BEGIN:VCALENDAR
VERSION:2.0
PRODID:Events Booking
BEGIN:VEVENT
UID:69ec22191b5a6
SUMMARY:Care for Carers Week 2
DESCRIPTION:Week 2 - It is never too early to attend this informative and e
 njoyable program\, which runs once a week for four weeks - Tuesday&nbsp\;1
 4 May\, Tuesday&nbsp\;21 May\, Tuesday&nbsp\;28 May and Tuesday&nbsp\;4 Ju
 ne.
LOCATION:Building 4\, Gladesville Hospital\, Victoria Rd\, Gladesville NSW 
 2111\, Australia
DTSTART:20190521T000000Z
DTEND:20190521T053000Z
DTSTAMP:20260425T020825Z
ORGANIZER;CN=MNDNSW Website - Events:MAILTO:info@mndnsw.org.au
GEO:-33.840077;151.134265
X-APPLE-STRUCTURED-LOCATION;VALUE=URI;X-ADDRESS=Building 4\, Gladesville Ho
 spital\, Victoria Rd\, Gladesville NSW 2111\, Australia;X-APPLE-RADIUS=72;
 X-TITLE=MND NSW Centre Gladesville:-33.840077;151.134265
END:VEVENT
END:VCALENDAR