BEGIN:VCALENDAR
VERSION:2.0
PRODID:Events Booking
BEGIN:VEVENT
UID:69e55abb78e4f
SUMMARY:Webinar: Supporting the Psychological Wellbeing of MND Carers
DESCRIPTION:October is Mental Health Awareness Month. To help raise awarene
 ss and in the spirit of National Carers Week which is just prior to this e
 vent\, we will be joined by Paul Cafarella to talk about psychological wel
 lbeing for MND carers.
DTSTART:20251021T050000Z
DTEND:20251021T060000Z
DTSTAMP:20250825T190435Z
ORGANIZER;CN=MNDNSW Website - Events:MAILTO:info@mndnsw.org.au
END:VEVENT
END:VCALENDAR