BEGIN:VCALENDAR
VERSION:2.0
PRODID:Events Booking
BEGIN:VEVENT
UID:69e6be7ad0a0d
SUMMARY:Sold out - MND Upskill for Health Professionals - Northern Sydney
DESCRIPTION:This event is sold out. Email education@mndnsw.org.au&nbsp\;to 
 join the waiting list.
 This full day practical workshop is for health pr
 ofessionals who are supporting people with MND.&nbsp\;
LOCATION:88 Evans St\, Freshwater NSW 2096
DTSTART:20240611T233000Z
DTEND:20240612T053000Z
DTSTAMP:20230924T195422Z
ORGANIZER;CN=MNDNSW Website - Events:MAILTO:info@mndnsw.org.au
GEO:-33.779107;151.293235
X-APPLE-STRUCTURED-LOCATION;VALUE=URI;X-ADDRESS=88 Evans St\, Freshwater NS
 W 2096;X-APPLE-RADIUS=72;X-TITLE=Harbord Diggers:-33.779107;151.293235
END:VEVENT
END:VCALENDAR