BEGIN:VCALENDAR
VERSION:2.0
PRODID:Events Booking
BEGIN:VEVENT
UID:69ea8ef5b7489
SUMMARY:Running for MND - SMH Half Marathon
DESCRIPTION:Isabella is running in the SMH Half Marathon and raising funds 
 for MND NSW. Read more and make a donation to support Isabella&nbsp\;here.
 &nbsp\;
DTSTART:20201114T130000Z
DTSTAMP:20260423T212821Z
ORGANIZER;CN=MNDNSW Website - Events:MAILTO:info@mndnsw.org.au
END:VEVENT
END:VCALENDAR