BEGIN:VCALENDAR
VERSION:2.0
PRODID:Events Booking
BEGIN:VEVENT
UID:69ebf1156f30c
SUMMARY:Sydney Harbour 10K
DESCRIPTION:Brand Influence Group are running in support of MND NSW.&nbsp\;
DTSTART:20190727T140000Z
DTSTAMP:20260424T223917Z
ORGANIZER;CN=MNDNSW Website - Events:MAILTO:info@mndnsw.org.au
END:VEVENT
END:VCALENDAR