BEGIN:VCALENDAR
VERSION:2.0
PRODID:Events Booking
BEGIN:VEVENT
UID:69eaa5ff5d0f1
SUMMARY:Gundaroo Music Festival
DESCRIPTION:An entertaining day of music to raise awareness and funds for m
 otor neurone disease.&nbsp\;
DTSTART:20201023T130000Z
DTSTAMP:20260423T230639Z
ORGANIZER;CN=MNDNSW Website - Events:MAILTO:info@mndnsw.org.au
END:VEVENT
END:VCALENDAR