BEGIN:VCALENDAR
VERSION:2.0
PRODID:Events Booking
BEGIN:VEVENT
UID:69ec1e5699def
SUMMARY:MND Week 2019
DESCRIPTION:During MND Week 2019 support our wonderful volunteers selling m
 erchandise and collecting donations.
DTSTART:20190504T140000Z
DTEND:20190510T140000Z
DTSTAMP:20260425T015222Z
ORGANIZER;CN=MNDNSW Website - Events:MAILTO:info@mndnsw.org.au
END:VEVENT
END:VCALENDAR