BEGIN:VCALENDAR
VERSION:2.0
PRODID:Events Booking
BEGIN:VEVENT
UID:69ecb8c40a0f1
SUMMARY:Trivia Night for MND
DESCRIPTION:A fun night of trivia to help raise awareness and funds for MND
 .
LOCATION:99 Great Western Hwy\, Emu Plains NSW 2750\, Australia
DTSTART:20181012T130000Z
DTSTAMP:20260425T125116Z
ORGANIZER;CN=MNDNSW Website - Events:MAILTO:info@mndnsw.org.au
GEO:-33.74664;150.673276
X-APPLE-STRUCTURED-LOCATION;VALUE=URI;X-ADDRESS=99 Great Western Hwy\, Emu 
 Plains NSW 2750\, Australia;X-APPLE-RADIUS=72;X-TITLE=O'Donoghues Irish Pu
 b:-33.74664;150.673276
END:VEVENT
END:VCALENDAR