BEGIN:VCALENDAR
VERSION:2.0
PRODID:Events Booking
BEGIN:VEVENT
UID:69eb8ea17d54a
SUMMARY:Melody Marathon for MND
DESCRIPTION:James Patrick Entertainer&nbsp\;is back with Melody Marathon fo
 r MND in 2026!
 Don't miss the event starting on July 18\, and if you'd l
 ike to get involved earlier\, you can make a donation to his fundraiser no
 w at https://www.mndblue.org.au/mm4mnd
DTSTART:20260718T020000Z
DTEND:20260719T020000Z
DTSTAMP:20260423T180538Z
ORGANIZER;CN=MNDNSW Website - Events:MAILTO:info@mndnsw.org.au
END:VEVENT
END:VCALENDAR