BEGIN:VCALENDAR
VERSION:2.0
PRODID:Events Booking
BEGIN:VEVENT
UID:69e9522269266
SUMMARY:Central Coast Support Group - Online 
DESCRIPTION:Bi-monthly meetings. Get-together\, general discussion\, usuall
 y with a guest speaker. This meeting will be held online.&nbsp\;
DTSTART:20211006T230000Z
DTEND:20211007T000000Z
DTSTAMP:20210923T143005Z
ORGANIZER;CN=MNDNSW Website - Events:MAILTO:info@mndnsw.org.au
END:VEVENT
END:VCALENDAR