BEGIN:VCALENDAR
VERSION:2.0
PRODID:Events Booking
BEGIN:VEVENT
UID:69ea9073627ac
SUMMARY:Illawarra Online Support Group
DESCRIPTION:The Illawarra support group is now online!
 This is an online 
 group meeting for people who would usually attend support group events in 
 the Illawarra with our MND Advisor Ana.
DTSTART:20201117T230000Z
DTEND:20201118T000000Z
DTSTAMP:20260423T213443Z
ORGANIZER;CN=MNDNSW Website - Events:MAILTO:info@mndnsw.org.au
END:VEVENT
END:VCALENDAR