BEGIN:VCALENDAR
VERSION:2.0
PRODID:Events Booking
BEGIN:VEVENT
UID:69e69305d9788
SUMMARY:Northern Sydney MND Support Group
DESCRIPTION:
LOCATION:4 High St\, Hornsby NSW 2077
DTSTART:20240815T010000Z
DTEND:20240815T030000Z
DTSTAMP:20230226T125302Z
ORGANIZER;CN=MNDNSW Website - Events:MAILTO:info@mndnsw.org.au
GEO:-33.704696;151.095111
X-APPLE-STRUCTURED-LOCATION;VALUE=URI;X-ADDRESS=4 High St\, Hornsby NSW 207
 7;X-APPLE-RADIUS=72;X-TITLE=Hornsby RSL Club:-33.704696;151.095111
END:VEVENT
END:VCALENDAR