BEGIN:VCALENDAR
VERSION:2.0
PRODID:Events Booking
BEGIN:VEVENT
UID:69e692ffa6bc2
SUMMARY:Western Sydney MND Support Group (Online)
DESCRIPTION:
DTSTART:20240801T010000Z
DTEND:20240801T030000Z
DTSTAMP:20230226T125123Z
ORGANIZER;CN=MNDNSW Website - Events:MAILTO:info@mndnsw.org.au
END:VEVENT
END:VCALENDAR