BEGIN:VCALENDAR
VERSION:2.0
PRODID:Events Booking
BEGIN:VEVENT
UID:69e5e72fa9d15
SUMMARY:Newcastle and Hunter Online Support Group
DESCRIPTION:The Newcastle and Hunter Support Group&nbsp\;is going online!

  This is an online group meeting for people who would usually attend suppo
 rt group events in Newcastle and will be hosted by our MND Advisors Emma a
 nd Eileen.
DTSTART:20201208T230000Z
DTEND:20201209T000000Z
DTSTAMP:20260420T084327Z
ORGANIZER;CN=MNDNSW Website - Events:MAILTO:info@mndnsw.org.au
END:VEVENT
END:VCALENDAR