BEGIN:VCALENDAR
VERSION:2.0
PRODID:Events Booking
BEGIN:VEVENT
UID:69eba3aa8d540
SUMMARY:Information event - Port Macquarie
DESCRIPTION:If you\, or someone close to you\, has been diagnosed with moto
 r neurone disease (MND) this event will provide an opportunity to have som
 e of your questions answered in an informal setting.
LOCATION:1 Bay St\, Port Macquarie NSW 2444\, Australia
DTSTART:20200820T050000Z
DTEND:20200820T070000Z
DTSTAMP:20260424T170858Z
ORGANIZER;CN=MNDNSW Website - Events:MAILTO:info@mndnsw.org.au
GEO:-31.426224;152.895934
X-APPLE-STRUCTURED-LOCATION;VALUE=URI;X-ADDRESS=1 Bay St\, Port Macquarie N
 SW 2444\, Australia;X-APPLE-RADIUS=72;X-TITLE=Panthers\, Port Macquarie:-3
 1.426224;152.895934
END:VEVENT
END:VCALENDAR