BEGIN:VCALENDAR
VERSION:2.0
PRODID:Events Booking
BEGIN:VEVENT
UID:69eba4a8a92e0
SUMMARY:Information event - Gladesville
DESCRIPTION:If you or someone close to you has been diagnosed with motor ne
 urone disease (MND)\, this event will provide an opportunity to have some 
 of your questions answered in an informal setting.
LOCATION:Building 4\, Gladesville Hospital\, Victoria Rd\, Gladesville NSW 
 2111\, Australia
DTSTART:20200915T083000Z
DTEND:20200915T100000Z
DTSTAMP:20260424T171312Z
ORGANIZER;CN=MNDNSW Website - Events:MAILTO:info@mndnsw.org.au
GEO:-33.840077;151.134265
X-APPLE-STRUCTURED-LOCATION;VALUE=URI;X-ADDRESS=Building 4\, Gladesville Ho
 spital\, Victoria Rd\, Gladesville NSW 2111\, Australia;X-APPLE-RADIUS=72;
 X-TITLE=MND NSW Centre Gladesville:-33.840077;151.134265
END:VEVENT
END:VCALENDAR