BEGIN:VCALENDAR
VERSION:2.0
PRODID:Events Booking
BEGIN:VEVENT
UID:69eba28a9df93
SUMMARY:Day of Hope and Remembrance
DESCRIPTION:This afternoon of hope and remembrance is for all those whose l
 ives have been touched by motor neurone disease (MND)\, including people l
 iving with MND\, family\, friends\, supporters\, volunteers and those work
 ing with MND.
DTSTART:20200516T033000Z
DTEND:20200516T053000Z
DTSTAMP:20260424T170410Z
ORGANIZER;CN=MNDNSW Website - Events:MAILTO:info@mndnsw.org.au
END:VEVENT
END:VCALENDAR