BEGIN:VCALENDAR
VERSION:2.0
PRODID:Events Booking
BEGIN:VEVENT
UID:69eba22ecb386
SUMMARY:MND Hope and Remembrance - Griffith
DESCRIPTION:A gathering to honour and celebrate those who have lost their l
 ives to MND.
LOCATION:2 Bridge Rd\, Griffith NSW 2680\, Australia
DTSTART:20200923T000000Z
DTEND:20200923T030000Z
DTSTAMP:20260424T170238Z
ORGANIZER;CN=MNDNSW Website - Events:MAILTO:info@mndnsw.org.au
GEO:-34.292333;146.050937
X-APPLE-STRUCTURED-LOCATION;VALUE=URI;X-ADDRESS=2 Bridge Rd\, Griffith NSW 
 2680\, Australia;X-APPLE-RADIUS=72;X-TITLE=Griffith Leagues Club:-34.29233
 3;146.050937
END:VEVENT
END:VCALENDAR