BEGIN:VCALENDAR
VERSION:2.0
PRODID:Events Booking
BEGIN:VEVENT
UID:69eba2654236e
SUMMARY:MND Hope and Remembrance - Port Macquarie
DESCRIPTION:A gathering to honour and celebrate those who have lost their l
 ives to MND.
LOCATION:1 Bay St\, Port Macquarie NSW 2444\, Australia
DTSTART:20200821T010000Z
DTEND:20200821T040000Z
DTSTAMP:20260424T170333Z
ORGANIZER;CN=MNDNSW Website - Events:MAILTO:info@mndnsw.org.au
GEO:-31.426224;152.895934
X-APPLE-STRUCTURED-LOCATION;VALUE=URI;X-ADDRESS=1 Bay St\, Port Macquarie N
 SW 2444\, Australia;X-APPLE-RADIUS=72;X-TITLE=Panthers\, Port Macquarie:-3
 1.426224;152.895934
END:VEVENT
END:VCALENDAR