BEGIN:VCALENDAR
VERSION:2.0
PRODID:Events Booking
BEGIN:VEVENT
UID:69eba23fda96d
SUMMARY:MND Hope and Remembrance - Tamworth
DESCRIPTION:A gathering to honour and celebrate those who have lost their l
 ives to MND.
LOCATION:58 Phillip St\, West Tamworth NSW 2340\, Australia
DTSTART:20200727T020000Z
DTEND:20200727T050000Z
DTSTAMP:20260424T170255Z
ORGANIZER;CN=MNDNSW Website - Events:MAILTO:info@mndnsw.org.au
GEO:-31.102436;150.917027
X-APPLE-STRUCTURED-LOCATION;VALUE=URI;X-ADDRESS=58 Phillip St\, West Tamwor
 th NSW 2340\, Australia;X-APPLE-RADIUS=72;X-TITLE=West Tamworth Leagues Cl
 ub:-31.102436;150.917027
END:VEVENT
END:VCALENDAR