BEGIN:VCALENDAR
VERSION:2.0
PRODID:Events Booking
BEGIN:VEVENT
UID:69eba4e5b89a3
SUMMARY:MND Aware - Penrith
DESCRIPTION:The MND Aware training has been specifically developed for heal
 th and community care providers.
LOCATION:8 Tindale St\, Penrith NSW 2750
DTSTART:20200522T000000Z
DTEND:20200522T050000Z
DTSTAMP:20260424T171413Z
ORGANIZER;CN=MNDNSW Website - Events:MAILTO:info@mndnsw.org.au
GEO:-33.755053;150.698003
X-APPLE-STRUCTURED-LOCATION;VALUE=URI;X-ADDRESS=8 Tindale St\, Penrith NSW 
 2750;X-APPLE-RADIUS=72;X-TITLE=Penrith RSL Club:-33.755053;150.698003
END:VEVENT
END:VCALENDAR