BEGIN:VCALENDAR
VERSION:2.0
PRODID:Events Booking
BEGIN:VEVENT
UID:69e9684948807
SUMMARY:Dementia webinar 
DESCRIPTION:Recently Diagnosed with dementia - Live Webinar.
 This online 
 information session is provided by Dementia Australia.
DTSTART:20210920T010000Z
DTEND:20210920T020000Z
DTSTAMP:20260423T003105Z
ORGANIZER;CN=MNDNSW Website - Events:MAILTO:info@mndnsw.org.au
END:VEVENT
END:VCALENDAR