BEGIN:VCALENDAR
VERSION:2.0
PRODID:Events Booking
BEGIN:VEVENT
UID:69eca2302d6fd
SUMMARY:Carer Day - 11th International Conference on Frontotemporal Dementi
 as (ICFTD)
DESCRIPTION:Running concurrently with the ICFTD 2018 program will be a spec
 ialist day focused on issues and challenges for carers. The day is designe
 d to provide insightful presentations that speak to those faced with carin
 g for those with FTD.
LOCATION:14 Darling Dr\, Sydney NSW 2000\, Australia
DTSTART:20181112T213000Z
DTEND:20181113T055500Z
DTSTAMP:20260425T111456Z
ORGANIZER;CN=MNDNSW Website - Events:MAILTO:info@mndnsw.org.au
GEO:-33.873425;151.199097
X-APPLE-STRUCTURED-LOCATION;VALUE=URI;X-ADDRESS=14 Darling Dr\, Sydney NSW 
 2000\, Australia;X-APPLE-RADIUS=72;X-TITLE=International Convention Centre
  Sydney :-33.873425;151.199097
END:VEVENT
END:VCALENDAR