BEGIN:VCALENDAR
VERSION:2.0
PRODID:Events Booking
BEGIN:VEVENT
UID:69ebab326bac1
SUMMARY:Walk to d'Feet MND Penrith - POSTPONED
DESCRIPTION:Join MND NSW for our Walk to d'Feet MND Penrith to raise funds 
 and awareness for motor neurone disease.
 POSTPONED\, new date to be advi
 sed.
LOCATION:297-305 Old Castlereagh Rd\, Castlereagh NSW 2749\, Australia
DTSTART:20200809T000000Z
DTSTAMP:20260424T174106Z
ORGANIZER;CN=MNDNSW Website - Events:MAILTO:info@mndnsw.org.au
GEO:-33.725539;150.6725
X-APPLE-STRUCTURED-LOCATION;VALUE=URI;X-ADDRESS=297-305 Old Castlereagh Rd\
 , Castlereagh NSW 2749\, Australia;X-APPLE-RADIUS=72;X-TITLE=Sydney Intern
 ational Regatta Centre:-33.725539;150.6725
END:VEVENT
END:VCALENDAR