BEGIN:VCALENDAR
VERSION:2.0
PRODID:Events Booking
BEGIN:VEVENT
UID:69ebab824ccb7
SUMMARY:Walk to d'Feet MND Port Macquarie - POSTPONED
DESCRIPTION:Join MND NSW for our Walk to d'Feet MND Port Macquarie&nbsp\;to
  raise funds and awareness for motor neurone disease.&nbsp\;
 POSTPONED\,
  new date to be advised.
LOCATION:Cnr Buller Street and Park Street\, Port Macquarie NSW 2444
DTSTART:20200927T000000Z
DTSTAMP:20260424T174226Z
ORGANIZER;CN=MNDNSW Website - Events:MAILTO:info@mndnsw.org.au
GEO:-31.431313;152.899695
X-APPLE-STRUCTURED-LOCATION;VALUE=URI;X-ADDRESS=Cnr Buller Street and Park 
 Street\, Port Macquarie NSW 2444;X-APPLE-RADIUS=72;X-TITLE=Westport Park\,
  Port Macquarie:-31.431313;152.899695
END:VEVENT
END:VCALENDAR